BEGIN:VCALENDAR
VERSION:2.0
PRODID:-//eventon.com NONSGML v1.0//EN
CALSCALE:GREGORIAN
METHOD:PUBLISH
BEGIN:VEVENT
UID:69ec9b85f3fc5
DTSTAMP:20260425T104629Z
DTSTART:20191123T183000Z
DTEND:20191123T203000Z
LOCATION:Hardy Junction
SUMMARY:Hardy Junction Live Music
DESCRIPTION:Music is open to the public. Band to be determined. Admittance 
 by donation only For more information call:  870-856-4600 Located at 3896 
 Hwy 63/41 West in Hardy November 23rd &#8211; Billy Wayne Country Legends\n
 https://sracc.org/events/hardy-junction-live-music/
URL:https://sracc.org/events/hardy-junction-live-music/
END:VEVENT
END:VCALENDAR