BEGIN:VCALENDAR
VERSION:2.0
PRODID:-//eventon.com NONSGML v1.0//EN
CALSCALE:GREGORIAN
METHOD:PUBLISH
BEGIN:VEVENT
UID:69e4e61949aae
DTSTAMP:20260419T142633Z
DTSTART:20180802T090000Z
DTEND:20180802T140000Z
LOCATION:
SUMMARY:Seniors Day at Sharp County Fair
DESCRIPTION:\nhttps://sracc.org/events/seniors-day-at-sharp-county-fair/
URL:https://sracc.org/events/seniors-day-at-sharp-county-fair/
END:VEVENT
END:VCALENDAR